BEGIN:VCALENDAR
VERSION:2.0
PRODID:-//Mathematical Education on Merseyside - ECPv6.15.20//NONSGML v1.0//EN
CALSCALE:GREGORIAN
METHOD:PUBLISH
X-ORIGINAL-URL:https://mathsmerseyside.org.uk
X-WR-CALDESC:Events for Mathematical Education on Merseyside
REFRESH-INTERVAL;VALUE=DURATION:PT1H
X-Robots-Tag:noindex
X-PUBLISHED-TTL:PT1H
BEGIN:VTIMEZONE
TZID:UTC
BEGIN:STANDARD
TZOFFSETFROM:+0000
TZOFFSETTO:+0000
TZNAME:UTC
DTSTART:20230101T000000
END:STANDARD
END:VTIMEZONE
BEGIN:VEVENT
DTSTART;TZID=UTC:20240613T160000
DTEND;TZID=UTC:20240613T180000
DTSTAMP:20260423T180842
CREATED:20240418T173239Z
LAST-MODIFIED:20240418T173239Z
UID:2442-1718294400-1718301600@mathsmerseyside.org.uk
SUMMARY:AMSP Core Maths Summer Festival talks
DESCRIPTION:Fun and games with Core Maths?\n13 Jun 2024\n16:00\nonline\nTom Rainbow is a Maths Education Support Specialist at MEI. He delivers courses on L3 Core Maths and maths in A level Geography which is run in conjunction with the RGS. \n\nReference:#11886\nAudience:Teachers\nCurriculum focus:Core Maths\nMathematical focus:Problem solving\nFormat:Online\nDuration:2 hours\nOnline sessions:1\nRegion:National\nVenue:AMSP Online\nStart date:13 Jun 2024\nCourse times:16:00 – 18:00\nFee:Free for teachers in England
URL:https://mathsmerseyside.org.uk/event/amsp-core-maths-summer-festival-talks-8
END:VEVENT
BEGIN:VEVENT
DTSTART;TZID=UTC:20240619T160000
DTEND;TZID=UTC:20240619T180000
DTSTAMP:20260423T180842
CREATED:20240418T174004Z
LAST-MODIFIED:20240418T174004Z
UID:2445-1718812800-1718820000@mathsmerseyside.org.uk
SUMMARY:AMSP Core Maths Summer Festival talks
DESCRIPTION:Data analysis made simple with CODAP\n\n19 Jun 2024\n16:00\nOnline\n\nTom Button is MEI’s Maths Technology Specialist. He delivers professional development courses and leads on MEI’s work on introducing Data Science to learners. \n\nReference:#11885\nAudience:Teachers\nCurriculum focus:Core Maths\nMathematical focus:Problem solving\, Use of technology\nFormat:Online\nDuration:2 hours\nOnline sessions:1\nRegion:National\nVenue:AMSP Online\nStart date:19 Jun 2024\nCourse times:16:00 – 18:00\nFee:Free for teachers in England
URL:https://mathsmerseyside.org.uk/event/amsp-core-maths-summer-festival-talks-9
END:VEVENT
BEGIN:VEVENT
DTSTART;TZID=UTC:20240620T160000
DTEND;TZID=UTC:20240620T180000
DTSTAMP:20260423T180842
CREATED:20240418T174346Z
LAST-MODIFIED:20240418T174346Z
UID:2447-1718899200-1718906400@mathsmerseyside.org.uk
SUMMARY:AMSP Core Maths Summer Festival talks
DESCRIPTION:Exploring Mastery in Core Maths\n\n20 Jun 2024\n16:00\nOnline\n\nLiz Hopker-Blunt is a Maths Education Support Specialist at MEI. She develops teaching and learning resources for the Core Maths platform. \n\nReference:#11887\nAudience:Teachers\nCurriculum focus:Core Maths\nMathematical focus:Problem solving\nFormat:Online\nDuration:2 hours\nOnline sessions:1\nRegion:National\nVenue:AMSP Online\nStart date:20 Jun 2024\nCourse times:16:00 – 18:00\nFee:Free for teachers in England
URL:https://mathsmerseyside.org.uk/event/amsp-core-maths-summer-festival-talks-10
END:VEVENT
BEGIN:VEVENT
DTSTART;TZID=UTC:20240625T160000
DTEND;TZID=UTC:20240625T180000
DTSTAMP:20260423T180842
CREATED:20240418T174827Z
LAST-MODIFIED:20240418T174859Z
UID:2449-1719331200-1719338400@mathsmerseyside.org.uk
SUMMARY:AMSP Core Maths Summer Festival talks
DESCRIPTION:Teaching maths for social justice\n\n25 Jun 2024\n16:00\nOnline\n\nHafsa Farhana is a Secondary maths teacher and leader who has worked in a diverse school in London. Hafsa is an active participant in the Teaching Maths for Social Justice Network. \nCat van Saarloos is a Maths Education Support Specialist at MEI. She delivers courses on L3 Core Maths and maths in A level Psychology. \n\nReference:#11888\nAudience:Teachers\nCurriculum focus:Core Maths\nMathematical focus:Problem solving\nFormat:Online\nDuration:2 hours\nOnline sessions:1\nRegion:National\nVenue:AMSP Online\nStart date:25 Jun 2024\nCourse times:16:00 – 18:00\nFee:Free for teachers in England
URL:https://mathsmerseyside.org.uk/event/amsp-core-maths-summer-festival-talks-draft
END:VEVENT
BEGIN:VEVENT
DTSTART;TZID=UTC:20240626T160000
DTEND;TZID=UTC:20240626T180000
DTSTAMP:20260423T180842
CREATED:20240418T175303Z
LAST-MODIFIED:20240418T175718Z
UID:2454-1719417600-1719424800@mathsmerseyside.org.uk
SUMMARY:AMSP Core Maths Summer Festival talks
DESCRIPTION:Enhance your maths teaching with AI\n\n26 Jun 2024\n16:00\nOnline\n\nJude Mortimer is a Maths Education Support Specialist at MEI. She delivers courses on Core Maths\, Post 16 GCSE/FSQ\, Adult Education and ‘Multiply’. \n\nReference:#11889\nAudience:Teachers\nCurriculum focus:Core Maths\nMathematical focus:Problem solving\, Use of technology\nFormat:Online\nDuration:2 hours\nOnline sessions:1\nRegion:National\nVenue:AMSP Online\nStart date:26 Jun 2024\nCourse times:16:00 – 18:00\nFee:Free for teachers in England
URL:https://mathsmerseyside.org.uk/event/amsp-core-maths-summer-festival-talks-11
END:VEVENT
END:VCALENDAR