BEGIN:VCALENDAR
VERSION:2.0
PRODID:-//Mathematical Education on Merseyside - ECPv6.15.20//NONSGML v1.0//EN
CALSCALE:GREGORIAN
METHOD:PUBLISH
X-WR-CALNAME:Mathematical Education on Merseyside
X-ORIGINAL-URL:https://mathsmerseyside.org.uk
X-WR-CALDESC:Events for Mathematical Education on Merseyside
REFRESH-INTERVAL;VALUE=DURATION:PT1H
X-Robots-Tag:noindex
X-PUBLISHED-TTL:PT1H
BEGIN:VTIMEZONE
TZID:UTC
BEGIN:STANDARD
TZOFFSETFROM:+0000
TZOFFSETTO:+0000
TZNAME:UTC
DTSTART:20220101T000000
END:STANDARD
END:VTIMEZONE
BEGIN:VEVENT
DTSTART;TZID=UTC:20230613T160000
DTEND;TZID=UTC:20230613T180000
DTSTAMP:20260425T150814
CREATED:20230425T201408Z
LAST-MODIFIED:20230425T221206Z
UID:2107-1686672000-1686679200@mathsmerseyside.org.uk
SUMMARY:Advanced Maths Support Programme (AMSP) Core Maths Summer Festival Talks
DESCRIPTION:Advanced Maths Support Programme (AMSP) Core Maths Summer Festival Talks \nRealistic Maths Education (RME)\nhttps://amsp.org.uk/event/11215/ \n\nEvent ref#11215\nAudienceTeachers\nCurriculum focusCore Maths\nEvent formatLive online PD\nEvent Length2.0 hour(s)\nOnline Sessions1\nRegionNational\nStart DateTue 13th Jun 2023\nCourse Times16:00 – 18:00\nFeeFree for teachers in England\n\nOverview\nOur Core Maths Summer Festival is an extensive series of online interactive workshops. Each session will provide resources and activities which you can take straight to the classroom. \nYou can download the Core Maths Summer Festival 2023 Programme to see a summary of all 8 sessions. \nPlease note that the main session content will be delivered in the first hour and a half of each session and the remaining time will be dedicated to questions and support. \nWho will benefit from attending?\nThese sessions are designed to appeal to all teachers that wish to bring their contextualised maths lessons to life. No prior experience or knowledge of L3 Core Maths is required.
URL:https://mathsmerseyside.org.uk/event/amsp-core-maths-summer-festival-talks-3
END:VEVENT
END:VCALENDAR