BEGIN:VCALENDAR
VERSION:2.0
PRODID:-//Mathematical Education on Merseyside - ECPv6.15.20//NONSGML v1.0//EN
CALSCALE:GREGORIAN
METHOD:PUBLISH
X-ORIGINAL-URL:https://mathsmerseyside.org.uk
X-WR-CALDESC:Events for Mathematical Education on Merseyside
REFRESH-INTERVAL;VALUE=DURATION:PT1H
X-Robots-Tag:noindex
X-PUBLISHED-TTL:PT1H
BEGIN:VTIMEZONE
TZID:UTC
BEGIN:STANDARD
TZOFFSETFROM:+0000
TZOFFSETTO:+0000
TZNAME:UTC
DTSTART:20220101T000000
END:STANDARD
END:VTIMEZONE
BEGIN:VEVENT
DTSTART;TZID=UTC:20230509T190000
DTEND;TZID=UTC:20230509T210000
DTSTAMP:20260425T163453
CREATED:20230425T182702Z
LAST-MODIFIED:20230425T225630Z
UID:2092-1683658800-1683666000@mathsmerseyside.org.uk
SUMMARY:MEM Senior Challenge Prize Evening
DESCRIPTION:Date: 09 May\, 2023\nTime: 19:00\nPresenter: Barry Grantham\nTitle: MEM Senior Challenge Prize Evening\nAudience: MEM Senior Challenge Prize winners and families\nVenue: University of Liverpool\, Central Teaching Laboratory Building (CTL)\, L69 7ZL\nContact: Chris Marchant \nThe MEM Senior Challenge Prize Evening will take place on Wednesday 09 May 2023 from 7:00PM to 9:00PM \n  \n 
URL:https://mathsmerseyside.org.uk/event/mem-senior-challenge-prize-evening-2
END:VEVENT
END:VCALENDAR